BEGIN:VCALENDAR
VERSION:2.0
METHOD:PUBLISH
PRODID:-//ActiveDataExchange/NEXTGEN V1//EN
BEGIN:VEVENT
ORGANIZER:mailto:nbyb.schedule@gmail.com
DTSTART:20260506T233000Z
DTEND:20260507T033000Z
DTSTAMP:20260419T144015Z
LOCATION:RMS - FIELD #2-60' BASEBALL/FASTPITCH 10605 Carter St SE Yelm Washington 98597,RMS - FIELD #3-90' MAIN BASEBALL  10605 Carter St SE Yelm Washington 98597,RMS - FIELD #4-60' MAIN FASTPITCH 10605 Carter St SE Yelm Washington 98597,YMS - FIELD #2 - 90' MAIN BASEBALL  401 Coates Ave NW Yelm Washington 98597,YMS - FIELD #3 - 60' MAIN FASTPITCH  401 Coates Ave NW Yelm Washington 98597,YMS - FIELD #4 - 60' FASTPITCH/BASEBALL 401 Coates Ave NW Yelm Washington 98597
SUMMARY:NBYB Practices and Games
DESCRIPTION:NBYB Practices Monday - Friday NBYB Games - Saturdays\nView the full event details here: https://events.dudesolutions.com/YCS/site/communitysite/event/nbyb-practices-and-games-44/
CATEGORIES:
CONTACT:Tricia,nbyb.schedule@gmail.com,2532242641
CLASS:PUBLIC
UID:3C99D60A-1D6E-480B-BA44-AAA3A413BF57
BEGIN:VALARM
TRIGGER:-PT15M
ACTION:DISPLAY
DESCRIPTION:NBYB Practices and Games
END:VALARM
END:VEVENT
END:VCALENDAR
