BEGIN:VCALENDAR
VERSION:2.0
METHOD:PUBLISH
PRODID:-//ActiveDataExchange/NEXTGEN V1//EN
BEGIN:VEVENT
ORGANIZER:mailto:melanie.moore@crsd.org
DTSTART:20260514T200000Z
DTEND:20260515T000000Z
DTSTAMP:20260419T131226Z
LOCATION:Auditorium 116 Richboro Road Newtown PA 18940
SUMMARY:CREA Mtg
DESCRIPTION:\nView the full event details here: https://events.dudesolutions.com/crsd/event/crea-mtg-11/
CATEGORIES:
CONTACT:Melanie Moore,melanie.moore@crsd.org,2159442614
CLASS:PUBLIC
UID:3A4177AD-DB40-42C8-905A-B052D68BB6C0
BEGIN:VALARM
TRIGGER:-PT15M
ACTION:DISPLAY
DESCRIPTION:CREA Mtg
END:VALARM
END:VEVENT
END:VCALENDAR
