BEGIN:VCALENDAR
VERSION:2.0
METHOD:PUBLISH
PRODID:-//ActiveDataExchange/NEXTGEN V1//EN
BEGIN:VEVENT
ORGANIZER:mailto:krudat@crsd.org
DTSTART:20260507T133000Z
DTEND:20260508T003000Z
DTSTAMP:20260419T131317Z
LOCATION:Auditorium 116 Richboro Road Newtown PA 18940,Band Room SUMMER USE ONLY 116 Richboro Road Newtown PA 18940,Building Wide,F-132 Choir Room,Music Room - 166,Orchestra Room - NO OUTSIDE USE
SUMMARY:CRN/NMS Jazz Concert
DESCRIPTION:\nView the full event details here: https://events.dudesolutions.com/crsd/event/crn-jazz-concert/
CATEGORIES:
CONTACT:Keith Rudat,krudat@crsd.org,(215) 944-2663
CLASS:PUBLIC
UID:208B1EF4-410F-40E8-95A9-A8A4153EE0BB
BEGIN:VALARM
TRIGGER:-PT15M
ACTION:DISPLAY
DESCRIPTION:CRN/NMS Jazz Concert
END:VALARM
END:VEVENT
END:VCALENDAR
