BEGIN:VCALENDAR
VERSION:2.0
METHOD:PUBLISH
PRODID:-//ActiveDataExchange/NEXTGEN V1//EN
BEGIN:VEVENT
ORGANIZER:mailto:jburns@crsd.org
DTSTART:20260504T200000Z
DTEND:20260505T013000Z
DTSTAMP:20260419T131510Z
LOCATION:Auditorium 116 Richboro Road Newtown PA 18940,Auxilliary Gym 116 Richboro Road Newtown PA 18940,Building Wide,Cafeteria 116 Richboro Road Newtown PA 18940,Gym 116 Richboro Road Newtown PA 18940
SUMMARY:CR Music Dept
DESCRIPTION:\nView the full event details here: https://events.dudesolutions.com/crsd/event/hms-music-dept-12/
CATEGORIES:
CONTACT:john burns,jburns@crsd.org,(215) 944-2906
CLASS:PUBLIC
UID:E3F36CB7-26D0-4E75-955E-25CE40806205
BEGIN:VALARM
TRIGGER:-PT15M
ACTION:DISPLAY
DESCRIPTION:CR Music Dept
END:VALARM
END:VEVENT
END:VCALENDAR
