BEGIN:VCALENDAR
VERSION:2.0
METHOD:PUBLISH
PRODID:-//ActiveDataExchange/NEXTGEN V1//EN
BEGIN:VEVENT
ORGANIZER:mailto:jburns@crsd.org
DTSTART:20260508T200000Z
DTEND:20260509T013000Z
DTSTAMP:20260419T131348Z
LOCATION:Auditorium 116 Richboro Road Newtown PA 18940,Auxilliary Gym 116 Richboro Road Newtown PA 18940,Building Wide,Cafeteria 116 Richboro Road Newtown PA 18940,Gym 116 Richboro Road Newtown PA 18940
SUMMARY:CR Music Dept
DESCRIPTION:\nView the full event details here: https://events.dudesolutions.com/crsd/event/hms-music-dept-16/
CATEGORIES:
CONTACT:john burns,jburns@crsd.org,(215) 944-2906
CLASS:PUBLIC
UID:0A828C36-1CCD-4E4E-9F8A-AAC7637A8A73
BEGIN:VALARM
TRIGGER:-PT15M
ACTION:DISPLAY
DESCRIPTION:CR Music Dept
END:VALARM
END:VEVENT
END:VCALENDAR
