BEGIN:VCALENDAR
VERSION:2.0
METHOD:PUBLISH
PRODID:-//ActiveDataExchange/NEXTGEN V1//EN
BEGIN:VEVENT
ORGANIZER:mailto:jburns@crsd.org
DTSTART:20260510T200000Z
DTEND:20260511T013000Z
DTSTAMP:20260419T131348Z
LOCATION:Auditorium 116 Richboro Road Newtown PA 18940,Auditorium 400 E Holland Road Holland PA 18966,Auxilliary Gym 116 Richboro Road Newtown PA 18940,Auxilliary Gym 400 E Holland Road Holland PA 18966,Building Wide,Cafeteria 116 Richboro Road Newtown PA 18940,Cafetorium 400 E Holland Road Holland PA 18966,Gym 400 E Holland Road Holland PA 18966,Gym 116 Richboro Road Newtown PA 18940,HOLLAND MIDDLE
SUMMARY:CR Music Dept
DESCRIPTION:\nView the full event details here: https://events.dudesolutions.com/crsd/event/hms-music-dept-18/
CATEGORIES:
CONTACT:john burns,jburns@crsd.org,2159442906
CLASS:PUBLIC
UID:F309D5DC-ED64-4852-96E7-03D328FA6BB8
BEGIN:VALARM
TRIGGER:-PT15M
ACTION:DISPLAY
DESCRIPTION:CR Music Dept
END:VALARM
END:VEVENT
END:VCALENDAR
