BEGIN:VCALENDAR
VERSION:2.0
METHOD:PUBLISH
PRODID:-//ActiveDataExchange/NEXTGEN V1//EN
BEGIN:VEVENT
ORGANIZER:mailto:jburns@crsd.org
DTSTART:20260511T200000Z
DTEND:20260512T013000Z
DTSTAMP:20260419T131404Z
LOCATION:Auditorium 116 Richboro Road Newtown PA 18940,Auditorium 400 E Holland Road Holland PA 18966,Auxilliary Gym 116 Richboro Road Newtown PA 18940,Auxilliary Gym 400 E Holland Road Holland PA 18966,Building Wide,Cafeteria 116 Richboro Road Newtown PA 18940,Cafetorium 400 E Holland Road Holland PA 18966,Gym 400 E Holland Road Holland PA 18966,Gym 116 Richboro Road Newtown PA 18940,HOLLAND MIDDLE
SUMMARY:CR Music Dept
DESCRIPTION:\nView the full event details here: https://events.dudesolutions.com/crsd/event/hms-music-dept-19/
CATEGORIES:
CONTACT:john burns,jburns@crsd.org,2159442906
CLASS:PUBLIC
UID:33BF19A3-5181-4710-8657-AB551C909A27
BEGIN:VALARM
TRIGGER:-PT15M
ACTION:DISPLAY
DESCRIPTION:CR Music Dept
END:VALARM
END:VEVENT
END:VCALENDAR
