BEGIN:VCALENDAR
VERSION:2.0
METHOD:PUBLISH
PRODID:-//ActiveDataExchange/NEXTGEN V1//EN
BEGIN:VEVENT
ORGANIZER:mailto:jburns@crsd.org
DTSTART:20260512T200000Z
DTEND:20260513T013000Z
DTSTAMP:20260419T131444Z
LOCATION:Auditorium 116 Richboro Road Newtown PA 18940,Auxilliary Gym 116 Richboro Road Newtown PA 18940,Auxilliary Gym 400 E Holland Road Holland PA 18966,Building Wide,Cafeteria 116 Richboro Road Newtown PA 18940,Cafetorium 400 E Holland Road Holland PA 18966,Gym 400 E Holland Road Holland PA 18966,Gym 116 Richboro Road Newtown PA 18940,HOLLAND MIDDLE
SUMMARY:CR Music Dept
DESCRIPTION:\nView the full event details here: https://events.dudesolutions.com/crsd/event/hms-music-dept-20/
CATEGORIES:
CONTACT:john burns,jburns@crsd.org,(215) 944-2906
CLASS:PUBLIC
UID:84962971-20A5-4394-887E-443D115FFB29
BEGIN:VALARM
TRIGGER:-PT15M
ACTION:DISPLAY
DESCRIPTION:CR Music Dept
END:VALARM
END:VEVENT
END:VCALENDAR
