BEGIN:VCALENDAR
VERSION:2.0
METHOD:PUBLISH
PRODID:-//ActiveDataExchange/NEXTGEN V1//EN
BEGIN:VEVENT
ORGANIZER:mailto:krudat@crsd.org
DTSTART:20260513T210000Z
DTEND:20260514T010000Z
DTSTAMP:20260419T131225Z
LOCATION:Auditorium 116 Richboro Road Newtown PA 18940,Auxilliary Gym 116 Richboro Road Newtown PA 18940,Band Room SUMMER USE ONLY 116 Richboro Road Newtown PA 18940,Building Wide,Cafeteria 116 Richboro Road Newtown PA 18940,F-132 Choir Room,Orchestra Room - NO OUTSIDE USE
SUMMARY:NMS Orchestra Concert
DESCRIPTION:\nView the full event details here: https://events.dudesolutions.com/crsd/event/nms-orchestra-concert/
CATEGORIES:
CONTACT:Keith Rudat,krudat@crsd.org,(215) 944-2663
CLASS:PUBLIC
UID:D675A00A-7DC2-459A-A05B-E3D369F4771A
BEGIN:VALARM
TRIGGER:-PT15M
ACTION:DISPLAY
DESCRIPTION:NMS Orchestra Concert
END:VALARM
END:VEVENT
END:VCALENDAR
