BEGIN:VCALENDAR
VERSION:2.0
METHOD:PUBLISH
PRODID:-//ActiveDataExchange/NEXTGEN V1//EN
BEGIN:VEVENT
ORGANIZER:mailto:melanie.moore@crsd.org
DTSTART:20260421T220000Z
DTEND:20260422T003000Z
DTSTAMP:20260419T131556Z
LOCATION:Auditorium 116 Richboro Road Newtown PA 18940,Music Classroom 133 - DOLAN,Music Room - 166
SUMMARY:NMS/CRN Orchestra Concert
DESCRIPTION:\nView the full event details here: https://events.dudesolutions.com/crsd/event/nmscrn-orchestra-concert/
CATEGORIES:
CONTACT:Melanie Moore,melanie.moore@crsd.org,(121) 594-4261
CLASS:PUBLIC
UID:BC6ABCD8-EAB5-41AA-8708-827AB66B2203
BEGIN:VALARM
TRIGGER:-PT15M
ACTION:DISPLAY
DESCRIPTION:NMS/CRN Orchestra Concert
END:VALARM
END:VEVENT
END:VCALENDAR
