BEGIN:VCALENDAR
VERSION:2.0
METHOD:PUBLISH
PRODID:-//ActiveDataExchange/NEXTGEN V1//EN
BEGIN:VEVENT
ORGANIZER:mailto:gwinslow@crsd.org
DTSTART:20260504T220000Z
DTEND:20260505T010000Z
DTSTAMP:20260419T131317Z
LOCATION:All School Grounds,Auditorium 116 Richboro Road Newtown PA 18940,Auxilliary Gym 116 Richboro Road Newtown PA 18940,Band Room SUMMER USE ONLY 116 Richboro Road Newtown PA 18940,Building Wide,Cafeteria 116 Richboro Road Newtown PA 18940,Gym 116 Richboro Road Newtown PA 18940
SUMMARY:WES Spring Concert
DESCRIPTION:\nView the full event details here: https://events.dudesolutions.com/crsd/event/wes-spring-concert-2/
CATEGORIES:
CONTACT:Germaine Winslow,gwinslow@crsd.org,(215)-944-2306
CLASS:PUBLIC
UID:D8B994B1-A292-4D82-9DD5-497369FDC75D
BEGIN:VALARM
TRIGGER:-PT15M
ACTION:DISPLAY
DESCRIPTION:WES Spring Concert
END:VALARM
END:VEVENT
END:VCALENDAR
