BEGIN:VCALENDAR
VERSION:2.0
METHOD:PUBLISH
PRODID:-//ActiveDataExchange/NEXTGEN V1//EN
BEGIN:VEVENT
DTSTART;VALUE=DATE:20260509
DTEND;VALUE=DATE:20260510
DTSTAMP:20260421T163422Z
LOCATION:Indoor Arena 1036 North 7th Street Montrose CO 81401,Kitchen 1036 North 7th Street Montrose CO 81401,Meeting Room #1 1036 North 7th Street Montrose CO 81401,Meeting Room #2 1036 North 7th Street Montrose CO 81401,Meeting Room #3 1036 North 7th Street Montrose CO 81401,Meeting Room #4 1036 North 7th Street Montrose CO 81401
SUMMARY:TRA Judging
DESCRIPTION:Youth Livestock Judging Event\nView the full event details here: https://events.dudesolutions.com/montrosecounty/event/tra-judging-3/
CATEGORIES:
CONTACT:Kali Fassett
CLASS:PUBLIC
UID:A496FF3C-3191-4EA7-99A9-0EBEF8C7D348
BEGIN:VALARM
TRIGGER:-PT15M
ACTION:DISPLAY
DESCRIPTION:TRA Judging
END:VALARM
END:VEVENT
END:VCALENDAR
