BEGIN:VCALENDAR
VERSION:2.0
METHOD:PUBLISH
PRODID:-//ActiveDataExchange/NEXTGEN V1//EN
BEGIN:VEVENT
ORGANIZER:mailto:jchoopratheep@sjcoe.net
DTSTART:20260508T160000Z
DTEND:20260508T190000Z
DTSTAMP:20260422T192906Z
LOCATION:Board Room 2922 Transworld Drive Stockton CA 95206,Locke 1 2922 Transworld Drive Stockton CA 95206,Locke 2 2922 Transworld Drive Stockton CA 95206
SUMMARY:26-27 Procedure Updates with SUSD and LUSD
DESCRIPTION:26-27 Procedure Updates with SUSD and LUSD\nView the full event details here: https://events.dudesolutions.com/sanjoaquincounty/event/26-27-procedure-updates-with-susd-and-lusd/
CATEGORIES:
CONTACT:Jan Choopratheep,jchoopratheep@sjcoe.net,(209) 636-0016
CLASS:PUBLIC
UID:DAF3A0CF-1122-4C6A-B5A7-5C09F176FF6D
BEGIN:VALARM
TRIGGER:-PT15M
ACTION:DISPLAY
DESCRIPTION:26-27 Procedure Updates with SUSD and LUSD
END:VALARM
END:VEVENT
END:VCALENDAR
