BEGIN:VCALENDAR
VERSION:2.0
METHOD:PUBLISH
PRODID:-//ActiveDataExchange/NEXTGEN V1//EN
BEGIN:VEVENT
ORGANIZER:mailto:alponce@sjcoe.net
DTSTART:20260515T143000Z
DTEND:20260515T200000Z
DTSTAMP:20260422T192739Z
LOCATION:Locke 1 2922 Transworld Drive Stockton CA 95206,Locke 2 2922 Transworld Drive Stockton CA 95206
SUMMARY:AP Spanish Exam
DESCRIPTION:Venture Academy students will be doing an AP Spanish Exam-On
 ly one chair at each table\nView the full event details here: https://events.dudesolutions.com/sanjoaquincounty/event/ap-spanish-exam/
CATEGORIES:
CONTACT:Aleesa Ponce,alponce@sjcoe.net,(209) 292-2862
CLASS:PUBLIC
UID:A25A14DD-2C0E-4DD2-ABCC-0170A41245E3
BEGIN:VALARM
TRIGGER:-PT15M
ACTION:DISPLAY
DESCRIPTION:AP Spanish Exam
END:VALARM
END:VEVENT
END:VCALENDAR
