BEGIN:VCALENDAR
VERSION:2.0
METHOD:PUBLISH
PRODID:-//ActiveDataExchange/NEXTGEN V1//EN
BEGIN:VEVENT
ORGANIZER:mailto:jalmanza@sjcoe.net
DTSTART:20260514T213000Z
DTEND:20260515T040000Z
DTSTAMP:20260422T192739Z
LOCATION:Board Room 2922 Transworld Drive Stockton CA 95206,Locke 1 2922 Transworld Drive Stockton CA 95206,Locke 2 2922 Transworld Drive Stockton CA 95206
SUMMARY:Building Strong Starts (ECE/UPK)
DESCRIPTION:Building Strong Starts\nView the full event details here: https://events.dudesolutions.com/sanjoaquincounty/event/building-strong-starts-eceupk/
CATEGORIES:Internal Meeting - SJCOE
CONTACT:Julius Almanza,jalmanza@sjcoe.net,(209) 993-4941
CLASS:PUBLIC
UID:C52380E1-5559-4833-AE17-8575C26D06C7
BEGIN:VALARM
TRIGGER:-PT15M
ACTION:DISPLAY
DESCRIPTION:Building Strong Starts (ECE/UPK)
END:VALARM
END:VEVENT
END:VCALENDAR
