BEGIN:VCALENDAR
VERSION:2.0
METHOD:PUBLISH
PRODID:-//ActiveDataExchange/NEXTGEN V1//EN
BEGIN:VEVENT
ORGANIZER:mailto:dnance@sjcoe.net
DTSTART:20260514T150000Z
DTEND:20260514T190000Z
DTSTAMP:20260422T192745Z
LOCATION:Board Room 2922 Transworld Drive Stockton CA 95206,Locke 1 2922 Transworld Drive Stockton CA 95206,Locke 2 2922 Transworld Drive Stockton CA 95206
SUMMARY:CBO Meeting
DESCRIPTION:CBO Meeting\nView the full event details here: https://events.dudesolutions.com/sanjoaquincounty/event/cbo-meeting-4/
CATEGORIES:Internal Meeting - SJCOE
CONTACT:Dana,dnance@sjcoe.net
CLASS:PUBLIC
UID:089B98E5-9F1D-421B-AA5C-E13D84B53369
BEGIN:VALARM
TRIGGER:-PT15M
ACTION:DISPLAY
DESCRIPTION:CBO Meeting
END:VALARM
END:VEVENT
END:VCALENDAR
