BEGIN:VCALENDAR
VERSION:2.0
METHOD:PUBLISH
PRODID:-//ActiveDataExchange/NEXTGEN V1//EN
BEGIN:VEVENT
ORGANIZER:mailto:lugarcia@sjcoe.net
DTSTART:20260512T173000Z
DTEND:20260512T233000Z
DTSTAMP:20260422T192754Z
LOCATION:Board Room 2922 Transworld Drive Stockton CA 95206,Locke 1 2922 Transworld Drive Stockton CA 95206,Locke 2 2922 Transworld Drive Stockton CA 95206
SUMMARY:CVT Health Screening 
DESCRIPTION:CVT Health Screening. More details to follow.\nView the full event details here: https://events.dudesolutions.com/sanjoaquincounty/event/cvt-health-screening-2/
CATEGORIES:
CONTACT:Lucy Garcia,lugarcia@sjcoe.net,(209) 468-9174
CLASS:PUBLIC
UID:1687933A-8EFE-48E8-897E-DD67F9F9CF58
BEGIN:VALARM
TRIGGER:-PT15M
ACTION:DISPLAY
DESCRIPTION:CVT Health Screening 
END:VALARM
END:VEVENT
END:VCALENDAR
