BEGIN:VCALENDAR
VERSION:2.0
METHOD:PUBLISH
PRODID:-//ActiveDataExchange/NEXTGEN V1//EN
BEGIN:VEVENT
ORGANIZER:mailto:ahutsell@sjcoe.net
DTSTART:20260521T160000Z
DTEND:20260521T220000Z
DTSTAMP:20260422T192627Z
LOCATION:Locke 1 2922 Transworld Drive Stockton CA 95206,Locke 2 2922 Transworld Drive Stockton CA 95206
SUMMARY:FRISK - Advanced - 05/21/2026
DESCRIPTION:Human Resources is to provide Title IX, FRISK and Sexual Har
 assment Quarterly to required employees.\nView the full event details here: https://events.dudesolutions.com/sanjoaquincounty/event/frisk---advanced---05212026/
CATEGORIES:Internal Meeting - SJCOE
CONTACT:Athena,ahutsell@sjcoe.net,2092902141
CLASS:PUBLIC
UID:07E73AB9-BA13-4270-8794-A62040DCF802
BEGIN:VALARM
TRIGGER:-PT15M
ACTION:DISPLAY
DESCRIPTION:FRISK - Advanced - 05/21/2026
END:VALARM
END:VEVENT
END:VCALENDAR
