BEGIN:VCALENDAR
VERSION:2.0
METHOD:PUBLISH
PRODID:-//ActiveDataExchange/NEXTGEN V1//EN
BEGIN:VEVENT
ORGANIZER:mailto:ahutsell@sjcoe.net
DTSTART:20260513T153000Z
DTEND:20260513T183000Z
DTSTAMP:20260422T192550Z
LOCATION:Locke 1 2922 Transworld Drive Stockton CA 95206,Locke 2 2922 Transworld Drive Stockton CA 95206
SUMMARY:FRISK - Intermediate
DESCRIPTION:Human Resources is to provide Title IX, FRISK and Sexual Har
 assment Quarterly to required employees.\nView the full event details here: https://events.dudesolutions.com/sanjoaquincounty/event/frisk---intermediate-1/
CATEGORIES:Internal Meeting - SJCOE
CONTACT:Athena,ahutsell@sjcoe.net,2092902141
CLASS:PUBLIC
UID:60AC63A3-1409-4C88-B600-6F936D70309F
BEGIN:VALARM
TRIGGER:-PT15M
ACTION:DISPLAY
DESCRIPTION:FRISK - Intermediate
END:VALARM
END:VEVENT
END:VCALENDAR
