BEGIN:VCALENDAR
VERSION:2.0
METHOD:PUBLISH
PRODID:-//ActiveDataExchange/NEXTGEN V1//EN
BEGIN:VEVENT
ORGANIZER:mailto:mbalanzarocha@sjcoe.net
DTSTART:20260522T160000Z
DTEND:20260522T180000Z
DTSTAMP:20260422T192627Z
LOCATION:Board Room 2922 Transworld Drive Stockton CA 95206,Locke 1 2922 Transworld Drive Stockton CA 95206,Locke 2 2922 Transworld Drive Stockton CA 95206
SUMMARY:May Revision Workshop
DESCRIPTION:May Revision Workshop\nView the full event details here: https://events.dudesolutions.com/sanjoaquincounty/event/may-revision-workshop-3/
CATEGORIES:
CONTACT:Megan Balanza-Rocha,mbalanzarocha@sjcoe.net,(209) 468-4807
CLASS:PUBLIC
UID:8614C355-9474-41CA-99AE-F1417F962CFA
BEGIN:VALARM
TRIGGER:-PT15M
ACTION:DISPLAY
DESCRIPTION:May Revision Workshop
END:VALARM
END:VEVENT
END:VCALENDAR
