BEGIN:VCALENDAR
VERSION:2.0
METHOD:PUBLISH
PRODID:-//ActiveDataExchange/NEXTGEN V1//EN
BEGIN:VEVENT
ORGANIZER:mailto:lugarcia@sjcoe.net
DTSTART:20260519T150000Z
DTEND:20260520T000000Z
DTSTAMP:20260422T193015Z
LOCATION:Board Room 2922 Transworld Drive Stockton CA 95206,Locke 1 2922 Transworld Drive Stockton CA 95206,Locke 2 2922 Transworld Drive Stockton CA 95206
SUMMARY:SISC Health Benefits - Health Screenings
DESCRIPTION:Health Screening.\nView the full event details here: https://events.dudesolutions.com/sanjoaquincounty/event/sisc-health-benefits---health-screenings-11/
CATEGORIES:
CONTACT:Lucy Garcia,lugarcia@sjcoe.net,(209) 468-9174
CLASS:PUBLIC
UID:E15E1347-66FD-404F-B665-C209BD1B9D3C
BEGIN:VALARM
TRIGGER:-PT15M
ACTION:DISPLAY
DESCRIPTION:SISC Health Benefits - Health Screenings
END:VALARM
END:VEVENT
END:VCALENDAR
