BEGIN:VCALENDAR
VERSION:2.0
METHOD:PUBLISH
PRODID:-//ActiveDataExchange/NEXTGEN V1//EN
BEGIN:VEVENT
ORGANIZER:mailto:grodriguezramirez@sjcoe.net
DTSTART:20260424T150000Z
DTEND:20260424T180000Z
DTSTAMP:20260422T192811Z
LOCATION:Locke 1 2922 Transworld Drive Stockton CA 95206,Locke 2 2922 Transworld Drive Stockton CA 95206
SUMMARY:Cancelled - SJC IT Leadership Meeting
DESCRIPTION:SJC IT Leadership Meeting\nView the full event details here: https://events.dudesolutions.com/sanjoaquincounty/event/sjc-it-leadership-meeting/
CATEGORIES:Internal Meeting - SJCOE
CONTACT:Gladis Rodriguez,grodriguezramirez@sjcoe.net,(209) 390-8506,8506
CLASS:PUBLIC
UID:FE6D00FE-2997-460F-940E-F41B89413CEB
BEGIN:VALARM
TRIGGER:-PT15M
ACTION:DISPLAY
DESCRIPTION:Cancelled - SJC IT Leadership Meeting
END:VALARM
END:VEVENT
END:VCALENDAR
