BEGIN:VCALENDAR
VERSION:2.0
METHOD:PUBLISH
PRODID:-//ActiveDataExchange/NEXTGEN V1//EN
BEGIN:VEVENT
ORGANIZER:mailto:agfest-president@sanjoaquinagfest.org
DTSTART:20260506T020000Z
DTEND:20260506T050000Z
DTSTAMP:20260422T192932Z
LOCATION:Board Room 2922 Transworld Drive Stockton CA 95206,Locke 1 2922 Transworld Drive Stockton CA 95206,Locke 2 2922 Transworld Drive Stockton CA 95206
SUMMARY:Ag fest Board meeting
DESCRIPTION:ag fest board meeting\nView the full event details here: https://events.dudesolutions.com/sanjoaquincounty/site/communitySite/event/ag-fest-board-meeting-8/
CATEGORIES:
CONTACT:Josh Hiatt,agfest-president@sanjoaquinagfest.org,(209) 848-4601
CLASS:PUBLIC
UID:8EFECF8B-59DC-4F3A-AC40-7D56D668BADB
BEGIN:VALARM
TRIGGER:-PT15M
ACTION:DISPLAY
DESCRIPTION:Ag fest Board meeting
END:VALARM
END:VEVENT
END:VCALENDAR
