BEGIN:VCALENDAR
VERSION:2.0
METHOD:PUBLISH
PRODID:-//ActiveDataExchange/NEXTGEN V1//EN
BEGIN:VEVENT
ORGANIZER:mailto:agfest-president@sanjoaquinagfest.org
DTSTART:20260509T160000Z
DTEND:20260509T210000Z
DTSTAMP:20260422T192939Z
LOCATION:Locke 1 2922 Transworld Drive Stockton CA 95206,Locke 2 2922 Transworld Drive Stockton CA 95206
SUMMARY:Ag fest Jr board meeting
DESCRIPTION:Ag fest Jr board meeting\nView the full event details here: https://events.dudesolutions.com/sanjoaquincounty/site/communitySite/event/ag-fest-jr-board-meeting-4/
CATEGORIES:
CONTACT:Josh Hiatt,agfest-president@sanjoaquinagfest.org,(209) 848-4601
CLASS:PUBLIC
UID:25F1FB93-C9F9-4C7F-B467-27CC4290643D
BEGIN:VALARM
TRIGGER:-PT15M
ACTION:DISPLAY
DESCRIPTION:Ag fest Jr board meeting
END:VALARM
END:VEVENT
END:VCALENDAR
