BEGIN:VCALENDAR
VERSION:2.0
METHOD:PUBLISH
PRODID:-//ActiveDataExchange/NEXTGEN V1//EN
BEGIN:VEVENT
ORGANIZER:mailto:lernerc@smhs.org
DTSTART:20260511T130000Z
DTEND:20260511T143000Z
DTSTAMP:20260421T082206Z
LOCATION:Gym Court #1 - Bathroom side of gym
SUMMARY:Morning Wrestling Practice
DESCRIPTION:\nView the full event details here: https://events.dudesolutions.com/smhs/event/morning-wrestling-practice-48/
CATEGORIES:
CONTACT:Corey,lernerc@smhs.org
CLASS:PUBLIC
UID:FC90FCF4-7FB6-47B3-B477-3D710BAA774B
BEGIN:VALARM
TRIGGER:-PT15M
ACTION:DISPLAY
DESCRIPTION:Morning Wrestling Practice
END:VALARM
END:VEVENT
END:VCALENDAR
